BEGIN:VCALENDAR
VERSION:2.0
PRODID:icalendar-ruby
CALSCALE:GREGORIAN
METHOD:PUBLISH
BEGIN:VEVENT
DTSTAMP:20260420T073028Z
UID:51-1245724@stgeorgescathedral.ca
DTSTART:20261028T161500Z
DTEND:20261028T171500Z
CLASS:PUBLIC
CREATED:20260420T014615
DESCRIPTION:Join us for this simple weekday service of prayers and Holy Com
 munion led by the Cathedral's Pastoral Assistant\, the Rev. Gerry Moore.
LAST-MODIFIED:20260420T014615
LOCATION:Lady Chapel
SUMMARY:Midweek Holy Eucharist
URL;VALUE=URI:https://www.stgeorgescathedral.ca/events/midweek-holy-euchari
 st/2026-10-28
ATTACH;FILENAME=2.png;FMTTYPE=image/png:https://dq5pwpg1q8ru0.cloudfront.ne
 t/2024/04/09/12/52/46/10e48f7e-a953-4299-a17e-97261e38dbb0/2.png
END:VEVENT
END:VCALENDAR
